BEGIN:VCALENDAR
VERSION:2.0
PRODID:-//Beer Kind Brewing - ECPv6.15.20//NONSGML v1.0//EN
CALSCALE:GREGORIAN
METHOD:PUBLISH
X-WR-CALNAME:Beer Kind Brewing
X-ORIGINAL-URL:https://beerkindbrewing.com
X-WR-CALDESC:Events for Beer Kind Brewing
REFRESH-INTERVAL;VALUE=DURATION:PT1H
X-Robots-Tag:noindex
X-PUBLISHED-TTL:PT1H
BEGIN:VTIMEZONE
TZID:America/New_York
BEGIN:DAYLIGHT
TZOFFSETFROM:-0500
TZOFFSETTO:-0400
TZNAME:EDT
DTSTART:20240310T070000
END:DAYLIGHT
BEGIN:STANDARD
TZOFFSETFROM:-0400
TZOFFSETTO:-0500
TZNAME:EST
DTSTART:20241103T060000
END:STANDARD
BEGIN:DAYLIGHT
TZOFFSETFROM:-0500
TZOFFSETTO:-0400
TZNAME:EDT
DTSTART:20250309T070000
END:DAYLIGHT
BEGIN:STANDARD
TZOFFSETFROM:-0400
TZOFFSETTO:-0500
TZNAME:EST
DTSTART:20251102T060000
END:STANDARD
BEGIN:DAYLIGHT
TZOFFSETFROM:-0500
TZOFFSETTO:-0400
TZNAME:EDT
DTSTART:20260308T070000
END:DAYLIGHT
BEGIN:STANDARD
TZOFFSETFROM:-0400
TZOFFSETTO:-0500
TZNAME:EST
DTSTART:20261101T060000
END:STANDARD
END:VTIMEZONE
BEGIN:VEVENT
DTSTART;TZID=America/New_York:20251003T183000
DTEND;TZID=America/New_York:20251003T203000
DTSTAMP:20260425T160241
CREATED:20250917T175657Z
LAST-MODIFIED:20250917T175657Z
UID:1137-1759516200-1759523400@beerkindbrewing.com
SUMMARY:Sea Glass Succulent Pumpkin Workshop
DESCRIPTION:Join us for a Sea Glass Succulent Pumpkin Workshop on Friday October 3 at Beer Kind Brewing! In this workshop\, you will learn to craft your own 3D Succulent Pumpkin using a variety of different colored sea glass (greens\, blues\, clear). Twinkle lights included.\nPumpkin alone measures about 5″; and about 6.5″ with sea glass succulent on top.\nWe will be using super glue to adhere pieces.\n**CHOICE OF WHITE OR ORANGE PUMPKIN- PLEASE SELECT YOUR COLOR CHOICE FROM THE DROP-DOWN MENU WHEN REGISTERING** \nAll participants must purchase a ticket. Your ticket includes all materials and instruction. \nLocation: Beer Kind Brewing\, 2765 Kenmore Ave\, Tonawanda\, NY 14150 \nTime: 6:30-8:30pm; please arrive early to check in. \nAges: 21+ \nInstructor: Jennifer Hastings
URL:https://beerkindbrewing.com/event/sea-glass-succulent-pumpkin-workshop/
LOCATION:Beer Kind Brewing\, 2765 Kenmore Avenue\, Tonawanda\, NY\, 14150\, United States
END:VEVENT
BEGIN:VEVENT
DTSTART;TZID=America/New_York:20251003T170000
DTEND;TZID=America/New_York:20251003T210000
DTSTAMP:20260425T160241
CREATED:20250827T144926Z
LAST-MODIFIED:20250827T144926Z
UID:1109-1759510800-1759525200@beerkindbrewing.com
SUMMARY:Crokinole Night
DESCRIPTION:Ever played Crokinole? It’s a mix of curling and shuffleboard\, but played on a tabletop—and it’s ridiculously fun! Click here to see how it’s played! \nJoin us at Beer Kind Brewing for a laid-back night of flicking discs\, friendly competition\, and\, of course\, great beer. We’ll teach you the basics\, and you’ll be sinking trick shots in no time! \nGrab a pint\, bring some friends\, and let’s flick to win!
URL:https://beerkindbrewing.com/event/crokinole-night-6/
LOCATION:Beer Kind Brewing\, 2765 Kenmore Avenue\, Tonawanda\, NY\, 14150\, United States
END:VEVENT
BEGIN:VEVENT
DTSTART;TZID=America/New_York:20251002T190000
DTEND;TZID=America/New_York:20251002T210000
DTSTAMP:20260425T160241
CREATED:20250827T144758Z
LAST-MODIFIED:20250827T144758Z
UID:1105-1759431600-1759438800@beerkindbrewing.com
SUMMARY:DJ Trivia (Every Thursday 7PM)
DESCRIPTION:Join us for trivia every Thursday hosted by DJ Trivia! Free to play and prizes for top 3 teams. Outside food is welcome.
URL:https://beerkindbrewing.com/event/dj-trivia-every-thursday-7pm-10/
LOCATION:Beer Kind Brewing\, 2765 Kenmore Avenue\, Tonawanda\, NY\, 14150\, United States
END:VEVENT
BEGIN:VEVENT
DTSTART;TZID=America/New_York:20250928T130000
DTEND;TZID=America/New_York:20250928T160000
DTSTAMP:20260425T160241
CREATED:20250827T145415Z
LAST-MODIFIED:20250827T145415Z
UID:1117-1759064400-1759075200@beerkindbrewing.com
SUMMARY:Bills vs. Saints Game
DESCRIPTION:Watch the Bills take on the Saints at 1:00pm
URL:https://beerkindbrewing.com/event/bills-vs-saints-game/
LOCATION:Beer Kind Brewing\, 2765 Kenmore Avenue\, Tonawanda\, NY\, 14150\, United States
END:VEVENT
BEGIN:VEVENT
DTSTART;TZID=America/New_York:20250925T190000
DTEND;TZID=America/New_York:20250925T210000
DTSTAMP:20260425T160241
CREATED:20250827T144711Z
LAST-MODIFIED:20250827T144711Z
UID:1103-1758826800-1758834000@beerkindbrewing.com
SUMMARY:DJ Trivia (Every Thursday 7PM)
DESCRIPTION:Join us for trivia every Thursday hosted by DJ Trivia! Free to play and prizes for top 3 teams. Outside food is welcome.
URL:https://beerkindbrewing.com/event/dj-trivia-every-thursday-7pm-9/
LOCATION:Beer Kind Brewing\, 2765 Kenmore Avenue\, Tonawanda\, NY\, 14150\, United States
END:VEVENT
BEGIN:VEVENT
DTSTART;TZID=America/New_York:20250918T200000
DTEND;TZID=America/New_York:20250918T230000
DTSTAMP:20260425T160241
CREATED:20250827T145328Z
LAST-MODIFIED:20250827T145328Z
UID:1115-1758225600-1758236400@beerkindbrewing.com
SUMMARY:Bills vs. Miami Game
DESCRIPTION:Watch the Bills take on Miami at 8:15pm
URL:https://beerkindbrewing.com/event/bills-vs-miami-game/
LOCATION:Beer Kind Brewing\, 2765 Kenmore Avenue\, Tonawanda\, NY\, 14150\, United States
END:VEVENT
BEGIN:VEVENT
DTSTART;TZID=America/New_York:20250918T190000
DTEND;TZID=America/New_York:20250918T230000
DTSTAMP:20260425T160241
CREATED:20250827T144641Z
LAST-MODIFIED:20250827T144641Z
UID:1101-1758222000-1758236400@beerkindbrewing.com
SUMMARY:DJ Trivia (Every Thursday 7PM)
DESCRIPTION:Join us for trivia every Thursday hosted by DJ Trivia! Free to play and prizes for top 3 teams. Outside food is welcome.
URL:https://beerkindbrewing.com/event/dj-trivia-every-thursday-7pm-8/
LOCATION:Beer Kind Brewing\, 2765 Kenmore Avenue\, Tonawanda\, NY\, 14150\, United States
END:VEVENT
BEGIN:VEVENT
DTSTART;TZID=America/New_York:20250914T130000
DTEND;TZID=America/New_York:20250914T160000
DTSTAMP:20260425T160241
CREATED:20250827T145214Z
LAST-MODIFIED:20250827T145214Z
UID:1113-1757854800-1757865600@beerkindbrewing.com
SUMMARY:Bills vs. Jets Game
DESCRIPTION:Watch the Bills take on the Jets at 1:00pm
URL:https://beerkindbrewing.com/event/bills-vs-jets-game/
LOCATION:Beer Kind Brewing\, 2765 Kenmore Avenue\, Tonawanda\, NY\, 14150\, United States
END:VEVENT
BEGIN:VEVENT
DTSTART;TZID=America/New_York:20250912T170000
DTEND;TZID=America/New_York:20250912T210000
DTSTAMP:20260425T160241
CREATED:20250827T144853Z
LAST-MODIFIED:20250827T144853Z
UID:1107-1757696400-1757710800@beerkindbrewing.com
SUMMARY:Crokinole Night
DESCRIPTION:Ever played Crokinole? It’s a mix of curling and shuffleboard\, but played on a tabletop—and it’s ridiculously fun! Click here to see how it’s played! \nJoin us at Beer Kind Brewing for a laid-back night of flicking discs\, friendly competition\, and\, of course\, great beer. We’ll teach you the basics\, and you’ll be sinking trick shots in no time! \nGrab a pint\, bring some friends\, and let’s flick to win!
URL:https://beerkindbrewing.com/event/crokinole-night-5/
LOCATION:Beer Kind Brewing\, 2765 Kenmore Avenue\, Tonawanda\, NY\, 14150\, United States
END:VEVENT
BEGIN:VEVENT
DTSTART;TZID=America/New_York:20250911T070000
DTEND;TZID=America/New_York:20250911T210000
DTSTAMP:20260425T160241
CREATED:20250827T144608Z
LAST-MODIFIED:20250827T144608Z
UID:1099-1757574000-1757624400@beerkindbrewing.com
SUMMARY:DJ Trivia (Every Thursday 7PM)
DESCRIPTION:Join us for trivia every Thursday hosted by DJ Trivia! Free to play and prizes for top 3 teams. Outside food is welcome.
URL:https://beerkindbrewing.com/event/dj-trivia-every-thursday-7pm-7/
LOCATION:Beer Kind Brewing\, 2765 Kenmore Avenue\, Tonawanda\, NY\, 14150\, United States
END:VEVENT
BEGIN:VEVENT
DTSTART;TZID=America/New_York:20250907T120000
DTEND;TZID=America/New_York:20250907T150000
DTSTAMP:20260425T160241
CREATED:20250827T145119Z
LAST-MODIFIED:20250827T145119Z
UID:1111-1757246400-1757257200@beerkindbrewing.com
SUMMARY:Cans 2go Sale for Bills Game
DESCRIPTION:Stop in between 12-3:00pm to grab your cans for your tailgate or Bills party at home! $15 4packs mix & match.
URL:https://beerkindbrewing.com/event/cans-2go-sale-for-bills-game/
LOCATION:Beer Kind Brewing\, 2765 Kenmore Avenue\, Tonawanda\, NY\, 14150\, United States
END:VEVENT
BEGIN:VEVENT
DTSTART;TZID=America/New_York:20250906T130000
DTEND;TZID=America/New_York:20250906T220000
DTSTAMP:20260425T160241
CREATED:20250827T144441Z
LAST-MODIFIED:20250827T144441Z
UID:1097-1757163600-1757196000@beerkindbrewing.com
SUMMARY:Kenmore Pub Crawl
DESCRIPTION:We are proud to be a stop again on the Kenmore Pub Crawl! Swing by for great beer\, live music and tacos from the TCB food truck. Get your wristbands here. Money raised from wristband sales is going back to our community to support WNY Scholars Foundation\, Compeer Buffalo\, and Ken-Ton Closet. 6 buses will be looping the participating locations from 1pm-10pm.
URL:https://beerkindbrewing.com/event/kenmore-pub-crawl/
LOCATION:Beer Kind Brewing\, 2765 Kenmore Avenue\, Tonawanda\, NY\, 14150\, United States
END:VEVENT
BEGIN:VEVENT
DTSTART;TZID=America/New_York:20250905T183000
DTEND;TZID=America/New_York:20250905T200000
DTSTAMP:20260425T160241
CREATED:20250812T150754Z
LAST-MODIFIED:20250812T150754Z
UID:1083-1757097000-1757102400@beerkindbrewing.com
SUMMARY:Pressed Flower Pumpkins Workshop
DESCRIPTION:Join us for a Pressed Flower Pumpkins Workshop on Friday September 5 at Beer Kind Brewing! In this workshop\, a variety of pressed flowers and leaves will be provided for you to arrange and create your own pressed flower pumpkin! Faux white pumpkins will be used in this workshop. \nAll participants must purchase a ticket. Your ticket includes all materials and instruction. \nLocation: Beer Kind Brewing\, 2765 Kenmore Ave\, Tonawanda\, NY 14150 \nTime: 6:30-8pm; please arrive early to check in. \nAges: 21+ \nInstructor: Jennifer Hastings
URL:https://beerkindbrewing.com/event/pressed-flower-pumpkins-workshop/
LOCATION:Beer Kind Brewing\, 2765 Kenmore Avenue\, Tonawanda\, NY\, 14150\, United States
ATTACH;FMTTYPE=image/png:https://beerkindbrewing.com/wp-content/uploads/2025/08/Social-Media2-1080-x-1080-px-12.png
END:VEVENT
BEGIN:VEVENT
DTSTART;TZID=America/New_York:20250904T190000
DTEND;TZID=America/New_York:20250904T210000
DTSTAMP:20260425T160241
CREATED:20250722T005035Z
LAST-MODIFIED:20250722T005035Z
UID:1065-1757012400-1757019600@beerkindbrewing.com
SUMMARY:DJ Trivia (Every Thursday 7PM)
DESCRIPTION:Join us for trivia every Thursday hosted by DJ Trivia! Free to play and prizes for top 3 teams. Outside food is welcome.
URL:https://beerkindbrewing.com/event/dj-trivia-every-thursday-7pm-6/
LOCATION:Beer Kind Brewing\, 2765 Kenmore Avenue\, Tonawanda\, NY\, 14150\, United States
END:VEVENT
BEGIN:VEVENT
DTSTART;TZID=America/New_York:20250830T160000
DTEND;TZID=America/New_York:20250830T190000
DTSTAMP:20260425T160241
CREATED:20250827T144325Z
LAST-MODIFIED:20250827T144325Z
UID:1094-1756569600-1756580400@beerkindbrewing.com
SUMMARY:716 Paws Adoption Event
DESCRIPTION:Join us as we welcome some adorable pups looking for their forever homes. Come have a beer and maybe meet your new best friend!
URL:https://beerkindbrewing.com/event/716-paws-adoption-event/
LOCATION:Beer Kind Brewing\, 2765 Kenmore Avenue\, Tonawanda\, NY\, 14150\, United States
ATTACH;FMTTYPE=image/jpeg:https://beerkindbrewing.com/wp-content/uploads/2025/08/3797522ef3d3efcddb2daf57a4246a5c.jpeg
END:VEVENT
BEGIN:VEVENT
DTSTART;TZID=America/New_York:20250828T190000
DTEND;TZID=America/New_York:20250828T210000
DTSTAMP:20260425T160241
CREATED:20250722T004952Z
LAST-MODIFIED:20250722T004952Z
UID:1063-1756407600-1756414800@beerkindbrewing.com
SUMMARY:DJ Trivia (Every Thursday 7PM)
DESCRIPTION:Join us for trivia every Thursday hosted by DJ Trivia! Free to play and prizes for top 3 teams. Outside food is welcome.
URL:https://beerkindbrewing.com/event/dj-trivia-every-thursday-7pm-5/
LOCATION:Beer Kind Brewing\, 2765 Kenmore Avenue\, Tonawanda\, NY\, 14150\, United States
END:VEVENT
BEGIN:VEVENT
DTSTART;TZID=America/New_York:20250823T110000
DTEND;TZID=America/New_York:20250823T120000
DTSTAMP:20260425T160241
CREATED:20250812T134926Z
LAST-MODIFIED:20250812T135055Z
UID:1080-1755946800-1755950400@beerkindbrewing.com
SUMMARY:Yoga On Tap
DESCRIPTION:Welcome to Yoga On Tap at Beer Kind Brewing! Join us for a relaxing and rejuvenating yoga session on our patio. Unwind with an hour of yoga led by Adrienne Kosis\, followed by the perfect reward – a refreshing pint of beer or hard seltzer from Beer Kind Brewing. Whether you’re a seasoned yogi or just looking to try something new\, this event is perfect for all levels. Don’t miss out on this unique experience of combining yoga and beer in a laid-back setting. Bring your mat and come flow with us! Namaste. \nTicket includes yoga and 1 free drink of your choice from our self pour tap wall. Limited to Beer Kind products only (beer or hard seltzer). See our current tap list here. \nPurchase tickets here.
URL:https://beerkindbrewing.com/event/yoga-on-tap/
LOCATION:Beer Kind Brewing\, 2765 Kenmore Avenue\, Tonawanda\, NY\, 14150\, United States
ATTACH;FMTTYPE=image/png:https://beerkindbrewing.com/wp-content/uploads/2025/08/Social-Media2-1080-x-1080-px-11.png
END:VEVENT
BEGIN:VEVENT
DTSTART;TZID=America/New_York:20250822T170000
DTEND;TZID=America/New_York:20250822T200000
DTSTAMP:20260425T160241
CREATED:20250729T201029Z
LAST-MODIFIED:20250729T201029Z
UID:1070-1755882000-1755892800@beerkindbrewing.com
SUMMARY:Crokinole Night
DESCRIPTION:Ever played Crokinole? It’s a mix of curling and shuffleboard\, but played on a tabletop—and it’s ridiculously fun! Click here to see how it’s played! \nJoin us at Beer Kind Brewing for a laid-back night of flicking discs\, friendly competition\, and\, of course\, great beer. We’ll teach you the basics\, and you’ll be sinking trick shots in no time! \nGrab a pint\, bring some friends\, and let’s flick to win!
URL:https://beerkindbrewing.com/event/crokinole-night-4/
LOCATION:Beer Kind Brewing\, 2765 Kenmore Avenue\, Tonawanda\, NY\, 14150\, United States
END:VEVENT
BEGIN:VEVENT
DTSTART;TZID=America/New_York:20250821T190000
DTEND;TZID=America/New_York:20250821T210000
DTSTAMP:20260425T160241
CREATED:20250722T004914Z
LAST-MODIFIED:20250722T004914Z
UID:1061-1755802800-1755810000@beerkindbrewing.com
SUMMARY:DJ Trivia (Every Thursday 7PM)
DESCRIPTION:Join us for trivia every Thursday hosted by DJ Trivia! Free to play and prizes for top 3 teams. Outside food is welcome.
URL:https://beerkindbrewing.com/event/dj-trivia-every-thursday-7pm-4/
LOCATION:Beer Kind Brewing\, 2765 Kenmore Avenue\, Tonawanda\, NY\, 14150\, United States
END:VEVENT
BEGIN:VEVENT
DTSTART;TZID=America/New_York:20250817T140000
DTEND;TZID=America/New_York:20250817T160000
DTSTAMP:20260425T160241
CREATED:20250729T200731Z
LAST-MODIFIED:20250729T200731Z
UID:1067-1755439200-1755446400@beerkindbrewing.com
SUMMARY:Bills Trivia
DESCRIPTION:Hey Bills Mafia join us for a fun-filled afternoon of Buffalo Bills Trivia at Beer Kind Brewing! Test your knowledge of all things Buffalo Bills while enjoying delicious brews with fellow fans. Don’t miss out on this exciting opportunity to win prizes (top 3 teams) and bragging rights as the ultimate Buffalo Bills trivia champion. 1st place team wins a pair of tickets to the October 5th game against the Patriots! Grab your friends and head over to Beer Kind Brewing for an afternoon of football fun to kick off the season! \nWe recommend buying tickets together for your whole team so we know how many people on each team. Bills gear STRONGLY encouraged. \nTrivia starts at 2:00 PM\, we open at 12:00 PM. Come early to tailgate (grab your seats & food from Happy Tacos). \nGO BILLS!
URL:https://beerkindbrewing.com/event/bills-trivia/
LOCATION:Beer Kind Brewing\, 2765 Kenmore Avenue\, Tonawanda\, NY\, 14150\, United States
ATTACH;FMTTYPE=image/png:https://beerkindbrewing.com/wp-content/uploads/2025/07/Bills-Trivia.png
END:VEVENT
BEGIN:VEVENT
DTSTART;TZID=America/New_York:20250816T120000
DTEND;TZID=America/New_York:20250816T130000
DTSTAMP:20260425T160241
CREATED:20250813T183844Z
LAST-MODIFIED:20250813T183844Z
UID:1087-1755345600-1755349200@beerkindbrewing.com
SUMMARY:Kids Yoga
DESCRIPTION:Join us at Beer Kind Brewery\, a family friendly establishment\, for Parent’s Day Out! Drop your littles off for an engaging and mindful kids’ yoga class on the patio and head inside to responsibly enjoy a beverage (adult and NA options available). We get it\, summers can be long. There’s only so many afternoons we can spend baking in the sun at the playground\, watching as our littles run around tirelessly. Shouldn’t there be more activities we can both enjoy? Hang out and relax with your other parent friends with the knowledge your kids are close by and having a good time. Our kids’ yoga classes are always a blast\, jam packed with movement\, songs\, games\, stories and poses. \n$15 per child. Recommended children be at least 4 years old to participate. Email calmcoalitionbuffalo@gmail.com with any questions. Purchase tickets here.
URL:https://beerkindbrewing.com/event/kids-yoga/
LOCATION:Beer Kind Brewing\, 2765 Kenmore Avenue\, Tonawanda\, NY\, 14150\, United States
ATTACH;FMTTYPE=image/jpeg:https://beerkindbrewing.com/wp-content/uploads/2025/08/kids-yoga.jpg
END:VEVENT
BEGIN:VEVENT
DTSTART;TZID=America/New_York:20250815T183000
DTEND;TZID=America/New_York:20250815T203000
DTSTAMP:20260425T160241
CREATED:20250729T201637Z
LAST-MODIFIED:20250729T201637Z
UID:1072-1755282600-1755289800@beerkindbrewing.com
SUMMARY:Resin Suncatcher Workshop
DESCRIPTION:Join us for a Resin Suncatcher Workshop on Friday August 15 at Beer Kind Brewing! In this workshop\, you will learn the basics of working with UV Resin to create your own resin suncatcher in a Sunflower OR Moon Succulent OR Daisy Pumpkin template (Choose your style from the Drop-down Menu)!\nWe’ll have some different colored crushed glass available to customize your suncatcher.\nSuncatchers measure approximately 6″ and include a hanger \nAll participants must purchase a ticket. Your ticket includes all materials and instruction. \nLocation: Beer Kind Brewing\, 2765 Kenmore Ave\, Tonawanda\, NY 14150 \nTime: 6:30-8:30pm; please arrive early to check in. \nAges: 21+ \nInstructor: Jennifer Hastings
URL:https://beerkindbrewing.com/event/resin-suncatcher-workshop/
LOCATION:Beer Kind Brewing\, 2765 Kenmore Avenue\, Tonawanda\, NY\, 14150\, United States
ATTACH;FMTTYPE=image/png:https://beerkindbrewing.com/wp-content/uploads/2025/07/Social-Media2-1080-x-1080-px-8.png
END:VEVENT
BEGIN:VEVENT
DTSTART;TZID=America/New_York:20250814T190000
DTEND;TZID=America/New_York:20250814T210000
DTSTAMP:20260425T160241
CREATED:20250722T004846Z
LAST-MODIFIED:20250722T004846Z
UID:1059-1755198000-1755205200@beerkindbrewing.com
SUMMARY:DJ Trivia (Every Thursday 7PM)
DESCRIPTION:Join us for trivia every Thursday hosted by DJ Trivia! Free to play and prizes for top 3 teams. Outside food is welcome.
URL:https://beerkindbrewing.com/event/dj-trivia-every-thursday-7pm-3/
LOCATION:Beer Kind Brewing\, 2765 Kenmore Avenue\, Tonawanda\, NY\, 14150\, United States
END:VEVENT
BEGIN:VEVENT
DTSTART;TZID=America/New_York:20250807T190000
DTEND;TZID=America/New_York:20250807T210000
DTSTAMP:20260425T160241
CREATED:20250722T004813Z
LAST-MODIFIED:20250722T004813Z
UID:1057-1754593200-1754600400@beerkindbrewing.com
SUMMARY:DJ Trivia (Every Thursday 7PM)
DESCRIPTION:Join us for trivia every Thursday hosted by DJ Trivia! Free to play and prizes for top 3 teams. Outside food is welcome.
URL:https://beerkindbrewing.com/event/dj-trivia-every-thursday-7pm-2/
LOCATION:Beer Kind Brewing\, 2765 Kenmore Avenue\, Tonawanda\, NY\, 14150\, United States
END:VEVENT
BEGIN:VEVENT
DTSTART;TZID=America/New_York:20250731T190000
DTEND;TZID=America/New_York:20250731T210000
DTSTAMP:20260425T160241
CREATED:20250722T004424Z
LAST-MODIFIED:20250722T004424Z
UID:1052-1753988400-1753995600@beerkindbrewing.com
SUMMARY:Harry Potter Trivia
DESCRIPTION:Harry Potter Trivia at Beer Kind Brewing for Harry’s Birthday \nAre you a die-hard Harry Potter fan? Put your knowledge to the test at our Harry Potter Trivia event to celebrate The Boy Who Lived for his 45th birthday! Join us at Beer Kind Brewing for a night filled with magical questions and fantastic brews. Gather your fellow wizards and witches for a chance to win some enchanting prizes. Muggles welcome. \nBonus: Birthday treats for all trivia teams and a prize for best costume! \nWe recommend buying tickets together for your whole team so we know how many people on each team. Dressing up encouraged\, but not required. \nTrivia starts at 7:00 PM\, we open at 3:00 PM. Come early to reserve your seats & grab food from Molly’s Wood Fired Pizza!
URL:https://beerkindbrewing.com/event/harry-potter-trivia/
LOCATION:Beer Kind Brewing\, 2765 Kenmore Avenue\, Tonawanda\, NY\, 14150\, United States
ATTACH;FMTTYPE=image/png:https://beerkindbrewing.com/wp-content/uploads/2025/07/Social-Media2-1080-x-1080-px-7.png
END:VEVENT
BEGIN:VEVENT
DTSTART;TZID=America/New_York:20250726T140000
DTEND;TZID=America/New_York:20250726T170000
DTSTAMP:20260425T160241
CREATED:20250722T004100Z
LAST-MODIFIED:20250722T004100Z
UID:1049-1753538400-1753549200@beerkindbrewing.com
SUMMARY:Queen City Pitties: Bingo\, Barks & Brews
DESCRIPTION:Come join us for a paw-some afternoon filled with fun\, furry friends\, and fantastic brews at Beer Kind Brewing. Get ready to play some bingo\, win prizes\, and enjoy a variety of delicious drinks. We’re raising money to help Queen City Pitties cover a $6\,000 vet bill for their rescue pup Violet. All ticket sale proceeds go directly to the medical care of this sweet dog in need. \nYour ticket includes 5 bingo boards and 2 sheets of chinese auction. Additional boards and chinese auction tickets can be bought at the door. Buy your tickets here.
URL:https://beerkindbrewing.com/event/queen-city-pitties-bingo-barks-brews/
LOCATION:Beer Kind Brewing\, 2765 Kenmore Avenue\, Tonawanda\, NY\, 14150\, United States
ATTACH;FMTTYPE=image/png:https://beerkindbrewing.com/wp-content/uploads/2025/07/Social-Media2-1080-x-1080-px-6.png
END:VEVENT
BEGIN:VEVENT
DTSTART;TZID=America/New_York:20250724T190000
DTEND;TZID=America/New_York:20250724T210000
DTSTAMP:20260425T160241
CREATED:20250722T004707Z
LAST-MODIFIED:20250722T004707Z
UID:1055-1753383600-1753390800@beerkindbrewing.com
SUMMARY:DJ Trivia (Every Thursday 7PM)
DESCRIPTION:Join us for trivia every Thursday hosted by DJ Trivia! Free to play and prizes for top 3 teams. Outside food is welcome.
URL:https://beerkindbrewing.com/event/dj-trivia-every-thursday-7pm/
LOCATION:Beer Kind Brewing\, 2765 Kenmore Avenue\, Tonawanda\, NY\, 14150\, United States
END:VEVENT
BEGIN:VEVENT
DTSTART;TZID=America/New_York:20250718T170000
DTEND;TZID=America/New_York:20250718T210000
DTSTAMP:20260425T160241
CREATED:20250619T165855Z
LAST-MODIFIED:20250619T165855Z
UID:1042-1752858000-1752872400@beerkindbrewing.com
SUMMARY:Vendor Market
DESCRIPTION:Join us for a vendor market on our patio Friday July 18th from 5:00-9:00 PM.
URL:https://beerkindbrewing.com/event/vendor-market/
LOCATION:Beer Kind Brewing\, 2765 Kenmore Avenue\, Tonawanda\, NY\, 14150\, United States
ATTACH;FMTTYPE=image/jpeg:https://beerkindbrewing.com/wp-content/uploads/2025/06/97288.jpeg
END:VEVENT
BEGIN:VEVENT
DTSTART;TZID=America/New_York:20250711T183000
DTEND;TZID=America/New_York:20250711T203000
DTSTAMP:20260425T160241
CREATED:20250618T161545Z
LAST-MODIFIED:20250618T161545Z
UID:1034-1752258600-1752265800@beerkindbrewing.com
SUMMARY:Sea Glass & Pearl Wind Chime Workshop
DESCRIPTION:Join us for a Sea Glass & Pearl Wind Chime Workshop on Friday July 11 at Beer Kind Brewing! In this workshop\, you will learn to craft your very own sea glass & pearl wind chime! Blue\, green\, and clear sea glass colors will be available to choose from. Additional colors may be available. \nAll participants must purchase a ticket. Your ticket includes all materials and instruction. Purchase ticket here.\n \nLocation: Beer Kind Brewing\, 2765 Kenmore Ave\, Tonawanda\, NY 14150 \nTime: 6:30-8pm; please arrive early to check in. \nAges: 21+ \nInstructor: Jennifer Hastings
URL:https://beerkindbrewing.com/event/sea-glass-pearl-wind-chime-workshop/
LOCATION:Beer Kind Brewing\, 2765 Kenmore Avenue\, Tonawanda\, NY\, 14150\, United States
ATTACH;FMTTYPE=image/png:https://beerkindbrewing.com/wp-content/uploads/2025/06/sea-glass.png
END:VEVENT
BEGIN:VEVENT
DTSTART;TZID=America/New_York:20250705T140000
DTEND;TZID=America/New_York:20250705T160000
DTSTAMP:20260425T160241
CREATED:20250605T001242Z
LAST-MODIFIED:20250605T001242Z
UID:1026-1751724000-1751731200@beerkindbrewing.com
SUMMARY:Ice Cream & Beer Pairing Class
DESCRIPTION:Join us for a unique tasting experience where we pair delicious ice cream flavors from Living The Cream with our craft beers. Indulge in a sweet and savory combination that will tantalize your taste buds. This in-person guided event will take place at Beer Kind Brewing\, where you can enjoy the cozy atmosphere while savoring these delectable pairings with our brewer and owner Alex\, and ice cream chef Christian. Don’t miss out on this one-of-a-kind event – reserve your spot now and get your tickets here! \nPairing Menu: \n\nBananakin hefeweizen paired with brown sugar cinnamon ice cream with peanut butter cookie dough\nJason Mimosa hazy IPA paired with orange creamsicle cake batter ice cream\nBeau margarita gose paired with coconut cake batter ice cream with brown sugar graham cracker crumble\nIntern in Pajamas porter paired with hot cocoa ice cream with half-baked brownies
URL:https://beerkindbrewing.com/event/ice-cream-beer-pairing-class/
LOCATION:Beer Kind Brewing\, 2765 Kenmore Avenue\, Tonawanda\, NY\, 14150\, United States
ATTACH;FMTTYPE=image/png:https://beerkindbrewing.com/wp-content/uploads/2025/06/Social-Media-Posts-2025-06-04T162325.591.png
END:VEVENT
END:VCALENDAR