BEGIN:VCALENDAR
VERSION:2.0
PRODID:-//Beer Kind Brewing - ECPv6.15.20//NONSGML v1.0//EN
CALSCALE:GREGORIAN
METHOD:PUBLISH
X-ORIGINAL-URL:https://beerkindbrewing.com
X-WR-CALDESC:Events for Beer Kind Brewing
REFRESH-INTERVAL;VALUE=DURATION:PT1H
X-Robots-Tag:noindex
X-PUBLISHED-TTL:PT1H
BEGIN:VTIMEZONE
TZID:America/New_York
BEGIN:DAYLIGHT
TZOFFSETFROM:-0500
TZOFFSETTO:-0400
TZNAME:EDT
DTSTART:20230312T070000
END:DAYLIGHT
BEGIN:STANDARD
TZOFFSETFROM:-0400
TZOFFSETTO:-0500
TZNAME:EST
DTSTART:20231105T060000
END:STANDARD
BEGIN:DAYLIGHT
TZOFFSETFROM:-0500
TZOFFSETTO:-0400
TZNAME:EDT
DTSTART:20240310T070000
END:DAYLIGHT
BEGIN:STANDARD
TZOFFSETFROM:-0400
TZOFFSETTO:-0500
TZNAME:EST
DTSTART:20241103T060000
END:STANDARD
BEGIN:DAYLIGHT
TZOFFSETFROM:-0500
TZOFFSETTO:-0400
TZNAME:EDT
DTSTART:20250309T070000
END:DAYLIGHT
BEGIN:STANDARD
TZOFFSETFROM:-0400
TZOFFSETTO:-0500
TZNAME:EST
DTSTART:20251102T060000
END:STANDARD
BEGIN:DAYLIGHT
TZOFFSETFROM:-0500
TZOFFSETTO:-0400
TZNAME:EDT
DTSTART:20260308T070000
END:DAYLIGHT
BEGIN:STANDARD
TZOFFSETFROM:-0400
TZOFFSETTO:-0500
TZNAME:EST
DTSTART:20261101T060000
END:STANDARD
END:VTIMEZONE
BEGIN:VTIMEZONE
TZID:UTC
BEGIN:STANDARD
TZOFFSETFROM:+0000
TZOFFSETTO:+0000
TZNAME:UTC
DTSTART:20230101T000000
END:STANDARD
END:VTIMEZONE
BEGIN:VEVENT
DTSTART;TZID=America/New_York:20250215T170000
DTEND;TZID=America/New_York:20250215T200000
DTSTAMP:20260425T220247
CREATED:20250131T213243Z
LAST-MODIFIED:20250131T213243Z
UID:867-1739638800-1739649600@beerkindbrewing.com
SUMMARY:Pawlentine's Day
DESCRIPTION:Join us and 716 Paws for a heartwarming event celebrating love\, beer\, and pups! All proceeds to help with vet bills. \n📍 Location: Beer Kind Brewing\n📅 Date: Saturday\, February 15th\, 2025\n⏰ Time: 5 PM – 8 PM \n🎟 Tickets: $20 – Includes:\n🍺 1 Free Pour\n📸 Professional Pawlentine’s Day Photos by Erica Schuler Images\n🎟 Entry into a Basket Raffle \n🐶 Family & Dog Friendly\n🐾 Well-behaved dogs welcome!\n🐕 Meet adorable adoptable dogs! \n🎟 Tickets available at 716paws.org/pawlentinesday or at the door! \nCome enjoy great beer\, support a great cause\, and maybe even meet your new furry Valentine! ❤️🐾
URL:https://beerkindbrewing.com/event/pawlentines-day/
LOCATION:Beer Kind Brewing\, 2765 Kenmore Avenue\, Tonawanda\, NY\, 14150\, United States
ATTACH;FMTTYPE=image/png:https://beerkindbrewing.com/wp-content/uploads/2025/01/Beer-Kind-Pawlentines-Day-Instagram.png
END:VEVENT
BEGIN:VEVENT
DTSTART;TZID=America/New_York:20250215T120000
DTEND;TZID=America/New_York:20250215T210000
DTSTAMP:20260425T220247
CREATED:20250131T213039Z
LAST-MODIFIED:20250131T213039Z
UID:863-1739620800-1739653200@beerkindbrewing.com
SUMMARY:Valentine's Cookie & Beer Pairing
DESCRIPTION:Beer & Cookie Pairing – The Perfect Valentine’s Treat! 🍪🍺 \nWhether you’re celebrating Valentine’s\, Galentine’s\, or just treating yourself\, we’ve got the perfect pairing for you! ❤️ Join Beer Kind Brewing & The Cookie Club on Saturday\, February 15th for a deliciously unique experience. Here’s How It Works: Stop by Beer Kind Brewing anytime between 12-9 PM on February 15th to pick up your cookies and beer flight\, then sit back and enjoy the perfect pairing right here at the brewery. What’s Included: \n\nA curated box of 4 decadent cookies expertly paired with a beer flight\nA pairing menu to guide your tasting journey\n\nThe Cookie Lineup:\n✨ Shortbread Sammies – Pretzel & potato chip cookies with marshmallow cream & chocolate\n✨ Sesame – Browned butter\, white chocolate & tahini\n✨ Almond Clouds – Homemade almond marzipan & lemon zest\n✨ CCCs – Chocolate chip\, caramel & coconut \n$25 per person (+taxes/fees) – Preorder by Feb 11th here! 
URL:https://beerkindbrewing.com/event/valentines-cookie-beer-pairing/
LOCATION:Beer Kind Brewing\, 2765 Kenmore Avenue\, Tonawanda\, NY\, 14150\, United States
ATTACH;FMTTYPE=image/png:https://beerkindbrewing.com/wp-content/uploads/2025/01/Social-Media-Posts-20.png
END:VEVENT
BEGIN:VEVENT
DTSTART;VALUE=DATE:20250213
DTEND;VALUE=DATE:20250214
DTSTAMP:20260425T220247
CREATED:20250209T185103Z
LAST-MODIFIED:20250209T185103Z
UID:920-1739404800-1739491199@beerkindbrewing.com
SUMMARY:Orso Nero Pizza Opening Day!
DESCRIPTION:Orso Nero Pizza is here at Beer Kind with regular hours! View the menu here.
URL:https://beerkindbrewing.com/event/orso-nero-pizza-opening-day/
LOCATION:Beer Kind Brewing\, 2765 Kenmore Avenue\, Tonawanda\, NY\, 14150\, United States
ATTACH;FMTTYPE=image/png:https://beerkindbrewing.com/wp-content/uploads/2025/02/Social-Media-Posts-2025-02-09T134959.721.png
END:VEVENT
BEGIN:VEVENT
DTSTART;TZID=America/New_York:20250207T183000
DTEND;TZID=America/New_York:20250207T200000
DTSTAMP:20260425T220247
CREATED:20250131T212403Z
LAST-MODIFIED:20250131T212403Z
UID:859-1738953000-1738958400@beerkindbrewing.com
SUMMARY:Pressed Flower Art Wall Hanging Workshop: Heart Frames
DESCRIPTION:Join us for a Pressed Flower Art Wall Hanging Workshop on Friday February 7 at Beer Kind Brewing! In this workshop\, you will arrange your own pressed flower wall art using a variety of pressed flowers and faux butterflies & moths! To celebrate the month of love\, we will be using Heart frames for this workshop. Heart frames are black\, locket style with glass panels and long chains for hanging. Frame size: (5.3″ x 5.3″). Total length with chain 9″. \nAll participants must purchase a ticket. Your ticket includes all materials and instruction. \nPlease arrive early to check in \nAges: 21+ \nInstructor: Jennifer Hastings
URL:https://beerkindbrewing.com/event/pressed-flower-art-wall-hanging-workshop-heart-frames/
LOCATION:Beer Kind Brewing\, 2765 Kenmore Avenue\, Tonawanda\, NY\, 14150\, United States
ATTACH;FMTTYPE=image/png:https://beerkindbrewing.com/wp-content/uploads/2025/01/Flower.png
END:VEVENT
BEGIN:VEVENT
DTSTART;TZID=America/New_York:20250110T183000
DTEND;TZID=America/New_York:20250110T210000
DTSTAMP:20260425T220247
CREATED:20241218T185311Z
LAST-MODIFIED:20241218T185311Z
UID:820-1736533800-1736542800@beerkindbrewing.com
SUMMARY:Sea Glass Christmas Tree Workshop
DESCRIPTION:Join us for a Sea Glass Christmas Tree Workshop on Friday January 10 at Beer Kind Brewing! In this workshop\, you will learn to craft your own 3D Christmas Tree using a variety of different colored sea glass (greens\, blues\, clear)\, shells\, pearls\, and starfish. Twinkle lights included. Tree alone measures 6″; and 8″ with starfish on top. We will be using both a super glue and hot glue to adhere pieces to tree. \nAll participants must purchase a ticket. Your ticket includes all materials and instruction.\n*You are welcome to bring any special pieces/keepsakes to include in your tree (ie. sea glass\, shells\, starfish etc.  \nLocation: Beer Kind Brewing\, 2765 Kenmore Ave\, Tonawanda\, NY 14150 \nTime: 6:30-9pm; please arrive early to check in. \nAges: 21+ \nInstructor: Jennifer Hastings
URL:https://beerkindbrewing.com/event/sea-glass-christmas-tree-workshop/
LOCATION:Beer Kind Brewing\, 2765 Kenmore Avenue\, Tonawanda\, NY\, 14150\, United States
ATTACH;FMTTYPE=image/png:https://beerkindbrewing.com/wp-content/uploads/2024/12/1_10-sea-glass-tree-beer-kind-flyer-002.png
END:VEVENT
BEGIN:VEVENT
DTSTART;TZID=America/New_York:20241223T150000
DTEND;TZID=America/New_York:20241223T180000
DTSTAMP:20260425T220247
CREATED:20241218T190315Z
LAST-MODIFIED:20241218T190315Z
UID:826-1734966000-1734976800@beerkindbrewing.com
SUMMARY:Last Minute Beer Run
DESCRIPTION:We will be open Monday December 23rd\, from 3-6 PM for all your to-go beer needs! 🍻 Stock up for holiday gatherings or snag those last-minute gifts with these deals: \n✅ 4-packs (Buy a 4-pack\, get a FREE koozie! Choose your style: can\, skinny\, or sleeve.)\n✅ WNY Trail Pass\n✅ Gift Cards – 20% OFF! 🎁\n✅ Beer Kind Merch \nDon’t miss out on the cheer\, savings\, and free swag before the holiday hustle! 🎅 \n**Please note: The tap wall will not be open – this is for to-go purchases ONLY.**
URL:https://beerkindbrewing.com/event/last-minute-beer-run/
LOCATION:Beer Kind Brewing\, 2765 Kenmore Avenue\, Tonawanda\, NY\, 14150\, United States
ATTACH;FMTTYPE=image/png:https://beerkindbrewing.com/wp-content/uploads/2024/12/Social-Media-Posts-14.png
END:VEVENT
BEGIN:VEVENT
DTSTART;VALUE=DATE:20241220
DTEND;VALUE=DATE:20241222
DTSTAMP:20260425T220247
CREATED:20241218T185645Z
LAST-MODIFIED:20241218T190133Z
UID:823-1734652800-1734825599@beerkindbrewing.com
SUMMARY:Hoppy Holiday Sweater Bash
DESCRIPTION:It’s time to dust off your most wonderfully hideous or cute holiday sweater & join us at Beer Kind! Holiday specials ALL weekend long & $15 mix & match 4-packs to go if wearing a holiday sweater. Festive music\, movies & more!
URL:https://beerkindbrewing.com/event/hoppy-holiday-sweater-bash/
LOCATION:Beer Kind Brewing\, 2765 Kenmore Avenue\, Tonawanda\, NY\, 14150\, United States
ATTACH;FMTTYPE=image/png:https://beerkindbrewing.com/wp-content/uploads/2024/12/Social-Media-Posts-12.png
END:VEVENT
BEGIN:VEVENT
DTSTART;TZID=America/New_York:20241219T190000
DTEND;TZID=America/New_York:20241219T210000
DTSTAMP:20260425T220247
CREATED:20241219T054731Z
LAST-MODIFIED:20241219T054808Z
UID:829-1734634800-1734642000@beerkindbrewing.com
SUMMARY:Trivia
DESCRIPTION:Join us every Thursday at 7pm for a night of fun and brain-busting questions with DJ Trivia
URL:https://beerkindbrewing.com/event/trivia/
LOCATION:Beer Kind Brewing\, 2765 Kenmore Avenue\, Tonawanda\, NY\, 14150\, United States
END:VEVENT
BEGIN:VEVENT
DTSTART;TZID=America/New_York:20241207T120000
DTEND;TZID=America/New_York:20241207T210000
DTSTAMP:20260425T220247
CREATED:20241111T154320Z
LAST-MODIFIED:20241111T155839Z
UID:788-1733572800-1733605200@beerkindbrewing.com
SUMMARY:Cookie & Beer Pairing at Beer Kind Brewing (Purchase Presale Tickets Now!)
DESCRIPTION:Purchases tickets online here or in the taproom. Tickets must be purchased in advanced. Presale ends Dec 4th.  \nCome join us for a tasty cookie and beer pairing at Beer Kind Brewing! \nIndulge in a unique pairing experience at Beer Kind Brewing! Join us on Saturday\, December 7th\, for our special Cookie & Beer Pairing Event\, featuring cookies by The Cookie Club. For just $28\, enjoy four full-sized\, gourmet cookies expertly paired with a flight of our handcrafted beers. Here’s How It Works: Stop by Beer Kind Brewing anytime between 12-9 PM on December 7th to pick up your cookies and beer flight\, then sit back and enjoy the perfect pairing right here at the brewery. What’s Included: \n\n4 full-sized\, gourmet cookies from The Cookie Club\n1 beer flight\, specially curated to complement each cookie
URL:https://beerkindbrewing.com/event/cookie-beer-pairing-at-beer-kind-brewing/
LOCATION:Beer Kind Brewing\, 2765 Kenmore Avenue\, Tonawanda\, NY\, 14150\, United States
ATTACH;FMTTYPE=image/png:https://beerkindbrewing.com/wp-content/uploads/2024/11/Social-Media-Posts-53.png
END:VEVENT
BEGIN:VEVENT
DTSTART;TZID=America/New_York:20241204T180000
DTEND;TZID=America/New_York:20241204T200000
DTSTAMP:20260425T220248
CREATED:20241025T040056Z
LAST-MODIFIED:20241025T040542Z
UID:755-1733335200-1733342400@beerkindbrewing.com
SUMMARY:Bills Mafia Holiday Doormat Paint Night
DESCRIPTION:Join us for a fun evening at Beer Kind Brewing\, hosted by Game Day Greetings\, as we celebrate our love for the Buffalo Bills with a fun and creative Bills Mafia Doormat Paint Night! Create a unique Christmas gift that will warm the hearts of your loved ones or design the perfect welcome mat to greet guests during the holidays. Purchase tickets here.
URL:https://beerkindbrewing.com/event/bills-mafia-holiday-doormat-paint-night/
LOCATION:Beer Kind Brewing\, 2765 Kenmore Avenue\, Tonawanda\, NY\, 14150\, United States
ATTACH;FMTTYPE=image/png:https://beerkindbrewing.com/wp-content/uploads/2024/10/High-Resolution-Photo-1080x1080-3.png
END:VEVENT
BEGIN:VEVENT
DTSTART;TZID=America/New_York:20241123T130000
DTEND;TZID=America/New_York:20241123T180000
DTSTAMP:20260425T220248
CREATED:20241031T165058Z
LAST-MODIFIED:20241031T170721Z
UID:774-1732366800-1732384800@beerkindbrewing.com
SUMMARY:Tacos\, Community & Beer Food Truck
DESCRIPTION:The TCB food truck will be serving up their delicious tacos at Beer Kind Brewing!
URL:https://beerkindbrewing.com/event/tacos-community-beer-food-truck-2/
LOCATION:Beer Kind Brewing\, 2765 Kenmore Avenue\, Tonawanda\, NY\, 14150\, United States
ATTACH;FMTTYPE=image/png:https://beerkindbrewing.com/wp-content/uploads/2024/10/Social-Media-Posts-28.png
END:VEVENT
BEGIN:VEVENT
DTSTART;TZID=America/New_York:20241123T130000
DTEND;TZID=America/New_York:20241123T180000
DTSTAMP:20260425T220248
CREATED:20241025T020905Z
LAST-MODIFIED:20241031T164149Z
UID:748-1732366800-1732384800@beerkindbrewing.com
SUMMARY:Hops & Shop Holiday Market
DESCRIPTION:Join us at the brewery for a festive day of shopping from local artisans\, all while enjoying your favorite\ncraft beverages and tacos from the TCB food truck!
URL:https://beerkindbrewing.com/event/hops-shop-holiday-market/
LOCATION:Beer Kind Brewing\, 2765 Kenmore Avenue\, Tonawanda\, NY\, 14150\, United States
ATTACH;FMTTYPE=image/png:https://beerkindbrewing.com/wp-content/uploads/2024/10/Social-Media-Posts-26.png
END:VEVENT
BEGIN:VEVENT
DTSTART;TZID=America/New_York:20241122T160000
DTEND;TZID=America/New_York:20241122T200000
DTSTAMP:20260425T220248
CREATED:20241122T182310Z
LAST-MODIFIED:20241122T182310Z
UID:798-1732291200-1732305600@beerkindbrewing.com
SUMMARY:26 Shirts Pre-Black Friday Pop-Up Sale at Beer Kind
DESCRIPTION:Shop 26 Shirts Pre-Black Friday Sale at Beer Kind Brewing Friday November 22nd from 4-8:00 PM! Shop limited-edition\, feel good tees with unique designs that support awesome causes and get a free pour with your purchase!
URL:https://beerkindbrewing.com/event/26-shirts-pre-black-friday-pop-up-sale-at-beer-kind/
LOCATION:Beer Kind Brewing\, 2765 Kenmore Avenue\, Tonawanda\, NY\, 14150\, United States
ATTACH;FMTTYPE=image/png:https://beerkindbrewing.com/wp-content/uploads/2024/11/Screenshot_20241122-131228.png
END:VEVENT
BEGIN:VEVENT
DTSTART;TZID=America/New_York:20241121T183000
DTEND;TZID=America/New_York:20241121T210000
DTSTAMP:20260425T220248
CREATED:20241025T035554Z
LAST-MODIFIED:20241025T035623Z
UID:752-1732213800-1732222800@beerkindbrewing.com
SUMMARY:Holiday Ceramic Painting Workshop
DESCRIPTION:Join us for a Holiday Ceramic Painting Workshop on Thursday November 21 hosted by Creative Flow Buffalo! In this workshop\, you will learn to paint a seasonal ceramic item of your choosing. We will have a variety of different paint colors available to choose from! Once painted\, you will add a layer of clear coat varnish for gloss & protection. Purchase tickets here.
URL:https://beerkindbrewing.com/event/holiday-ceramic-painting-workshop/
LOCATION:Beer Kind Brewing\, 2765 Kenmore Avenue\, Tonawanda\, NY\, 14150\, United States
ATTACH;FMTTYPE=image/jpeg:https://beerkindbrewing.com/wp-content/uploads/2024/10/IMG_20241024_111343.jpg
END:VEVENT
BEGIN:VEVENT
DTSTART;TZID=America/New_York:20241116T120000
DTEND;TZID=America/New_York:20241116T180000
DTSTAMP:20260425T220248
CREATED:20241031T164959Z
LAST-MODIFIED:20241105T185637Z
UID:770-1731758400-1731780000@beerkindbrewing.com
SUMMARY:Tacos\, Community & Beer Food Truck
DESCRIPTION:The TCB food truck will be serving up their delicious tacos at Beer Kind Brewing!
URL:https://beerkindbrewing.com/event/tacos-community-beer-food-truck/
LOCATION:Beer Kind Brewing\, 2765 Kenmore Avenue\, Tonawanda\, NY\, 14150\, United States
ATTACH;FMTTYPE=image/png:https://beerkindbrewing.com/wp-content/uploads/2024/10/Social-Media-Posts-28.png
END:VEVENT
BEGIN:VEVENT
DTSTART;TZID=America/New_York:20241116T120000
DTEND;TZID=America/New_York:20241116T150000
DTSTAMP:20260425T220248
CREATED:20241024T191208Z
LAST-MODIFIED:20241031T164430Z
UID:743-1731758400-1731769200@beerkindbrewing.com
SUMMARY:Holiday Mini Photo Sessions
DESCRIPTION:Celebrate the holidays with a mini photo session at Beer Kind Brewing! Bring your family\, friends\, or even your pup for a mini holiday photo session. Sip on craft beers\, enjoy tacos from the TCB food truck\, and capture your holiday spirit! For just a $40 donation\, package includes 5-10 edited digital images and a holiday card template. All proceeds will benefit P.U.N.T. Pediatric Cancer Collaborative.
URL:https://beerkindbrewing.com/event/holiday-mini-photo-sessions/
LOCATION:Beer Kind Brewing\, 2765 Kenmore Avenue\, Tonawanda\, NY\, 14150\, United States
ATTACH;FMTTYPE=image/png:https://beerkindbrewing.com/wp-content/uploads/2024/10/Social-Media-Posts-27.png
END:VEVENT
BEGIN:VEVENT
DTSTART;TZID=America/New_York:20241115T163000
DTEND;TZID=America/New_York:20241115T193000
DTSTAMP:20260425T220248
CREATED:20241105T191016Z
LAST-MODIFIED:20241105T191403Z
UID:782-1731688200-1731699000@beerkindbrewing.com
SUMMARY:Brisket Love BBQ Food Pop-Up
DESCRIPTION:Brisket Love BBQ will be at Beer Kind serving up their delicious BBQ! Happy Hour 3-6pm.
URL:https://beerkindbrewing.com/event/brisket-love-bbq-food-pop-up/
LOCATION:Beer Kind Brewing\, 2765 Kenmore Avenue\, Tonawanda\, NY\, 14150\, United States
END:VEVENT
BEGIN:VEVENT
DTSTART;TZID=America/New_York:20241108T163000
DTEND;TZID=America/New_York:20241108T193000
DTSTAMP:20260425T220248
CREATED:20241105T190108Z
LAST-MODIFIED:20241105T191451Z
UID:780-1731083400-1731094200@beerkindbrewing.com
SUMMARY:Emily's Corner Diner Food Pop-Up
DESCRIPTION:Emily’s Corner Diner will be at Beer Kind with their delicious prepared sandwiches! Happy Hour 3-6pm.
URL:https://beerkindbrewing.com/event/emilys-corner-diner-food-pop-up/
LOCATION:Beer Kind Brewing\, 2765 Kenmore Avenue\, Tonawanda\, NY\, 14150\, United States
END:VEVENT
BEGIN:VEVENT
DTSTART;TZID=America/New_York:20241103T150000
DTEND;TZID=America/New_York:20241103T190000
DTSTAMP:20260425T220248
CREATED:20241031T162915Z
LAST-MODIFIED:20241031T162915Z
UID:762-1730646000-1730660400@beerkindbrewing.com
SUMMARY:Emily's Corner Diner
DESCRIPTION:From 3-7:00 PM Emily’s Corner Diner will be at Beer Kind serving up their delicious tacos! Tap room open from 12:00-9:00 PM.
URL:https://beerkindbrewing.com/event/emilys-corner-diner/
LOCATION:Beer Kind Brewing\, 2765 Kenmore Avenue\, Tonawanda\, NY\, 14150\, United States
ATTACH;FMTTYPE=image/png:https://beerkindbrewing.com/wp-content/uploads/2024/10/Social-Media-Posts-25.png
END:VEVENT
BEGIN:VEVENT
DTSTART;TZID=America/New_York:20241101T150000
DTEND;TZID=America/New_York:20241101T210000
DTSTAMP:20260425T220248
CREATED:20241030T181241Z
LAST-MODIFIED:20241030T181241Z
UID:759-1730473200-1730494800@beerkindbrewing.com
SUMMARY:Orso Nero Pizza
DESCRIPTION:Orso Nero is back serving up their delicious wood fire pizzas! Open 3-9:00pm\, serving till close or sold out! Happy Hour 3-6pm.
URL:https://beerkindbrewing.com/event/orso-nero-pizza/
LOCATION:Beer Kind Brewing\, 2765 Kenmore Avenue\, Tonawanda\, NY\, 14150\, United States
ATTACH;FMTTYPE=image/png:https://beerkindbrewing.com/wp-content/uploads/2024/10/Social-Media-Posts-9.png
END:VEVENT
BEGIN:VEVENT
DTSTART;VALUE=DATE:20241026
DTEND;VALUE=DATE:20241027
DTSTAMP:20260425T220248
CREATED:20241021T233339Z
LAST-MODIFIED:20241025T034636Z
UID:737-1729900800-1729987199@beerkindbrewing.com
SUMMARY:Trunk or Treat and TCB Food Truck
DESCRIPTION:Get spooky with us for our Trunk or Treat event and TCB food truck. Bring the family for an afternoon of fun\, costumes\, candy\, tacos and beer tastings! \nTrunk or Treat 2 PM – 4 PM\, TCB food truck 1 PM – 4 PM
URL:https://beerkindbrewing.com/event/trunk-or-treat-and-tcb-food-truck/
LOCATION:Beer Kind Brewing\, 2765 Kenmore Avenue\, Tonawanda\, NY\, 14150\, United States
ATTACH;FMTTYPE=application/pdf:https://beerkindbrewing.com/wp-content/uploads/2024/10/Orange-Cute-and-Soft-3D-Watercolor-Illustration-Trick-or-Treat-Halloween-Trivia-Game-Presentation.pdf
END:VEVENT
BEGIN:VEVENT
DTSTART;VALUE=DATE:20241025
DTEND;VALUE=DATE:20241026
DTSTAMP:20260425T220248
CREATED:20241022T030725Z
LAST-MODIFIED:20241025T034721Z
UID:732-1729814400-1729900799@beerkindbrewing.com
SUMMARY:Orso Nero Pizza and Happy Lil Buffaloes Apparel Pop-Up
DESCRIPTION:Enjoy delicious pizza from Orso Nero Pizza from 4-8 pm – check out their menu here.  \nStop by and check out Happy Little Buffaloes comfy and stylish  apparel for children and adults from 5-7:30 pm.
URL:https://beerkindbrewing.com/event/orso-nero-pizza-and-happy-lil-buffaloes-apparel-pop-up/
LOCATION:Beer Kind Brewing\, 2765 Kenmore Avenue\, Tonawanda\, NY\, 14150\, United States
ATTACH;FMTTYPE=image/jpeg:https://beerkindbrewing.com/wp-content/uploads/2024/10/happy-lil-buffaloes-clothing-logo-color-horiz.jpg
END:VEVENT
END:VCALENDAR